BEGIN:VCALENDAR
PRODID:-//eluceo/ical//2.0/EN
VERSION:2.0
CALSCALE:GREGORIAN
BEGIN:VEVENT
UID:e99367c1c6090f9e362df8ad1c8ce355
DTSTAMP:20260424T233332Z
SUMMARY:Havdallah Around the Campfire
DESCRIPTION:Jewish Life NJ\nOur Events \nhttps://jewishlifenj.org/our-event
 s/havdallah-around-the-campfire-496522\n\nJoin us outside around Temple Be
 th-El's fire pit at 7:30 p.m. to bring the sweetness of Shabbat with us in
 to the week with Havdallah with Rabbi Diamondstein and Cantor Wallach. BYO
  sticks for campfire s’mores for children of all ages! Bring a dessert t
 o share. We’ll provide the s’mores. (If weather does not permit an out
 door campfire\, we will enjoy Havdallah inside.)
DTSTART;TZID=America/New_York:20250816T193000
DTEND;TZID=America/New_York:20250816T210000
END:VEVENT
END:VCALENDAR
