BEGIN:VCALENDAR
PRODID:-//eluceo/ical//2.0/EN
VERSION:2.0
CALSCALE:GREGORIAN
BEGIN:VEVENT
UID:5919ba6f5fa8be11369ef4f8764fdecc
DTSTAMP:20260424T190815Z
SUMMARY:Hacklebarney Hike Fall Foliage Hike
DESCRIPTION:Jewish Life NJ\nOur Events \nhttps://jewishlifenj.org/our-event
 s/hacklebarney-hike-fall-foliage-hike-500149\n\nCrunch through the leaves 
 and breathe in the crisp autumn air on our Hacklebarney Hike: Fall Foliag
 e Adventure. Join us for a scenic hike through one of New Jersey’s most 
 beautiful parks just as the leaves hit peak color. This guided trek is per
 fect for nature lovers\, leaf peepers\, and anyone looking to escape into 
 the woods for a few hours of peace\, connection\, and fresh air. Lace up y
 our boots\, grab your water bottle\, and let’s hit the trail together. Y
 ou bring the snacks\, we’ll brin...
DTSTART;TZID=America/New_York:20251004T120000
DTEND;TZID=America/New_York:20251004T140000
END:VEVENT
END:VCALENDAR
