BEGIN:VCALENDAR
PRODID:-//eluceo/ical//2.0/EN
VERSION:2.0
CALSCALE:GREGORIAN
BEGIN:VEVENT
UID:132321d5373d2484a668fc48ee03484b
DTSTAMP:20260424T013239Z
SUMMARY:From Clay Tablet to Digital Tablet: The History of Jewish Books
DESCRIPTION:Jewish Life NJ\nOur Events \nhttps://jewishlifenj.org/our-event
 s/from-clay-tablet-to-digital-tablet-the-history-of-jewish-books-176357772
 6-505414\n\nWhat is a Jewish book? How have Jewish ideas been transmitted 
 over the centuries—from oral traditions to handwritten manuscripts\, fro
 m printed books to computer code. Dr. Joseph A. Skloot (Hebrew Union Colle
 ge) examines the vast history of Jewish texts and tackles key questions\, 
 such as what makes a work holy or canonical. He will offer a behind-the-sc
 enes look at a Hebrew print shop in sixteenth-century Italy and also discu
 ss recent initiatives such as Sefaria.org\, an online library that h...
DTSTART;TZID=America/New_York:20251208T190000
DTEND;TZID=America/New_York:20251208T200000
END:VEVENT
END:VCALENDAR
