BEGIN:VCALENDAR
PRODID:-//eluceo/ical//2.0/EN
VERSION:2.0
CALSCALE:GREGORIAN
BEGIN:VEVENT
UID:ff06e6560251f95691a613d317e73a93
DTSTAMP:20260424T110943Z
SUMMARY:Federation Lunch & Learn
DESCRIPTION:Jewish Life NJ\nOur Events \nhttps://jewishlifenj.org/our-event
 s/federation-lunch-learn-493071\n\nMore information coming soon 
DTSTART;TZID=America/New_York:20251112T120000
DTEND;TZID=America/New_York:20251112T140000
END:VEVENT
END:VCALENDAR
