BEGIN:VCALENDAR
PRODID:-//eluceo/ical//2.0/EN
VERSION:2.0
CALSCALE:GREGORIAN
BEGIN:VEVENT
UID:fc90efdea3eca6777c5b7f93cbd4c323
DTSTAMP:20260423T184523Z
SUMMARY:Federatioin Annual Meeting
DESCRIPTION:Jewish Life NJ\nOur Events \nhttps://jewishlifenj.org/our-event
 s/federatioin-annual-meeting-492604\n\nAnnual Meeting of Jewish Federation
  of West-Central New Jersey\n\n \n\nAs One Community: Celebrating Our Imp
 act\n\nRecognizing the People and Programs Strengthening Our Community\n\n
  \n\n \n\nFree and open to the entire community.\n\n \n\nMay 12\, 2026\
 n\n \n\n6:30pm\n\n \n\nBridgewater\, NJ\n\n \n\nKosher dinner will be s
 erved\n\n \n\nFor questions please call 908-758-2003 or e-mail Lgreenber
 g@jfedwcnj.org\n\n 
DTSTART;TZID=America/New_York:20260512T183000
DTEND;TZID=America/New_York:20260512T200000
END:VEVENT
END:VCALENDAR
