BEGIN:VCALENDAR
PRODID:-//eluceo/ical//2.0/EN
VERSION:2.0
CALSCALE:GREGORIAN
BEGIN:VEVENT
UID:1869c54bde9eb6af8d8743b5d9f9dda3
DTSTAMP:20260425T182009Z
SUMMARY:Eurovision Finale Watch Party & Potluck
DESCRIPTION:Jewish Life NJ\nOur Events \nhttps://jewishlifenj.org/our-event
 s/eurovision-finale-watch-party-potluck-489808\n\nJoin us at the JCC to wa
 tch the Eurovision Song Contest finale live! Whether you're a longtime f
 an or just curious about the biggest international music competition\, com
 e enjoy the excitement with friends\, food\, and plenty of surprises.\n\nT
 his is a free\, potluck-style event\, so bring a dish to share—bonus po
 ints if it’s inspired by a Eurovision Country!\n\nTell Us What You're Br
 inging to the Potluck\n\n 
DTSTART;TZID=America/New_York:20250517T143000
DTEND;TZID=America/New_York:20250517T173000
END:VEVENT
END:VCALENDAR
