BEGIN:VCALENDAR
PRODID:-//eluceo/ical//2.0/EN
VERSION:2.0
CALSCALE:GREGORIAN
BEGIN:VEVENT
UID:facd9990044cade2042215556ceed85c
DTSTAMP:20260424T063831Z
SUMMARY:Election Reflections for the Jewish Community
DESCRIPTION:Jewish Life NJ\nOur Events \nhttps://jewishlifenj.org/our-event
 s/election-reflections-for-the-jewish-community-1758553397-501180\n\nFollo
 wing New Jersey's gubernatorial election\, Jewish Community Foundation of 
 Greater Mercer is pleased to present a talk by Dr. Benjamin Dworkin\, foun
 ding director of the Rowan University Institute for Public Policy & Citize
 nship.
DTSTART;TZID=America/New_York:20251116T130000
DTEND;TZID=America/New_York:20251116T143000
END:VEVENT
END:VCALENDAR
