BEGIN:VCALENDAR
PRODID:-//eluceo/ical//2.0/EN
VERSION:2.0
CALSCALE:GREGORIAN
BEGIN:VEVENT
UID:2b3a7f556b14495e7bd47f8b87e94396
DTSTAMP:20260424T041515Z
SUMMARY:Dignity Grows Giving Tuesday Packing Party
DESCRIPTION:Jewish Life NJ\nOur Events \nhttps://jewishlifenj.org/our-event
 s/dignity-grows-giving-tuesday-packing-party-488540\n\nThis Giving Tuesday
  Join us for our Second Annual Packing Palooza\n\nHelp us pack 900 bags\n\
 nDignity Grows removes obstacles and empowers our neighbors in need by dis
 tributing free\, reusable totes filled with a month’s supply of personal
  care products—items not covered by federal assistance.\n\n \n\nDecembe
 r 2nd\n\n7pm\n\n775 Talamini Road\, Bridgewater\, NJ\n\nQuestions Contact 
 Lauren Greenberg Lgreenberg@jfedwcnj.org or 908.758.2003
DTSTART;TZID=America/New_York:20251202T190000
DTEND;TZID=America/New_York:20251202T210000
END:VEVENT
END:VCALENDAR
