BEGIN:VCALENDAR
PRODID:-//eluceo/ical//2.0/EN
VERSION:2.0
CALSCALE:GREGORIAN
BEGIN:VEVENT
UID:e6dc2ed62db9ef61923ed630b3f246dd
DTSTAMP:20260423T172558Z
SUMMARY:Dash & Splash 5K & Pool Party
DESCRIPTION:Jewish Life NJ\nOur Events \nhttps://jewishlifenj.org/our-event
 s/dash-splash-5k--pool-party-514282\n\nJCC Dash & Splash 5K & Pool Party: 
 In memory of Chairoj Raviwong\n\nGreat for all ages. Perfect for seasoned
  runners\, casual walkers\, kids\, adults\, and everyone in between.\n\nPl
 ease leave your furry friends at home. \n\nTimed 5K Run/Walk for a cause
 \, raising money for JCC Scholarships\n\nSponsorships Available\n\n\n5:30
 pm: 5K - Race Map\n6pm - 8:30pm: Pool Party \n7pm: Medal & Prize Ceremon
 y \n\n\nDJ\, Lawn & Pool Games\, face paint\, balloon animals\, Tye Dye (
 bring your own white ite...
DTSTART;TZID=America/New_York:20260516T173000
DTEND;TZID=America/New_York:20260516T203000
END:VEVENT
END:VCALENDAR
