BEGIN:VCALENDAR
PRODID:-//eluceo/ical//2.0/EN
VERSION:2.0
CALSCALE:GREGORIAN
BEGIN:VEVENT
UID:7f4d5cf194c373313a3bf4b0d5ea91e9
DTSTAMP:20260424T064313Z
SUMMARY:Dancing with the J Stars
DESCRIPTION:Jewish Life NJ\nOur Events \nhttps://jewishlifenj.org/our-event
 s/dancing-with-the-j-stars-1739896805-486479\n\nDetails TBD
DTSTART;TZID=America/New_York:20251122T190000
DTEND;TZID=America/New_York:20251122T220000
END:VEVENT
END:VCALENDAR
