BEGIN:VCALENDAR
PRODID:-//eluceo/ical//2.0/EN
VERSION:2.0
CALSCALE:GREGORIAN
BEGIN:VEVENT
UID:5dbe8e1f4fe92fe2d34844fcf87b2c10
DTSTAMP:20260426T041414Z
SUMMARY:How Saba Kept Singing - Community Wide Yom HaShoah Observance
DESCRIPTION:Jewish Life NJ\nOur Events \nhttps://jewishlifenj.org/our-event
 s/community-wide-yom-hashoah-observance-2025-487903\n\nCommunity-Wide Yom 
 HaShoah Observance\n\nJoin us for a powerful and moving Yom HaShoah (Holoc
 aust Remembrance Day) Observance\, honoring the resilience and legacy of H
 olocaust survivors. This special event will feature a screening of the acc
 laimed documentary How Saba Kept Singing\, followed by an insightful Q&A 
 with Avi Wisnia\, grandson of the film’s subject.\n\nAvi Wisnia will sha
 re personal reflections and perform one of his grandfather’s cherished s
 ongs\, ensuring that the memory and mu...
DTSTART;TZID=America/New_York:20250410T190000
DTEND;TZID=America/New_York:20250410T210000
END:VEVENT
END:VCALENDAR
