BEGIN:VCALENDAR
PRODID:-//eluceo/ical//2.0/EN
VERSION:2.0
CALSCALE:GREGORIAN
BEGIN:VEVENT
UID:acb41fe7615ed3b33941a89c73093692
DTSTAMP:20260424T044047Z
SUMMARY:Chanukah Celebration - DIY Family Chanukiah Craft
DESCRIPTION:Jewish Life NJ\nOur Events \nhttps://jewishlifenj.org/our-event
 s/chanukah-celebration-diy-family-chanukiah-craft-504686\n\nLight up your 
 Chanukah with creativity\, community and connection! On December 10 from 5
 :00 pm to 7:00 pm at the JCC\, we’re rolling out a special evening just 
 for families. Start by designing your very own family chanukiah — we’l
 l supply all the craft materials\, you bring the imagination and the spark
 le!\n\nAfter the crafting fun\, dig into a hearty dinner complete with lat
 kes and sufganiyot (because every celebration needs delicious treats!). Th
 en we’ll gather together for the big fini...
DTSTART;TZID=America/New_York:20251216T170000
DTEND;TZID=America/New_York:20251216T190000
END:VEVENT
END:VCALENDAR
