BEGIN:VCALENDAR
PRODID:-//eluceo/ical//2.0/EN
VERSION:2.0
CALSCALE:GREGORIAN
BEGIN:VEVENT
UID:263a12d43fb00318e1fd908aa0f94860
DTSTAMP:20260424T011647Z
SUMMARY:Celebrating the Selsbergs: 10 Years at Temple Sholom
DESCRIPTION:Jewish Life NJ\nOur Events \nhttps://jewishlifenj.org/our-event
 s/celebrating-the-selsbergs-10-years-at-temple-sholom-1747251647-491864\n\
 nLuncheon event and fundraiser commemorating Rabbi Dan & Karen Selsbergs'
  10 years with Temple Sholom.
DTSTART;TZID=America/New_York:20251116T120000
DTEND;TZID=America/New_York:20251116T150000
END:VEVENT
END:VCALENDAR
