BEGIN:VCALENDAR
PRODID:-//eluceo/ical//2.0/EN
VERSION:2.0
CALSCALE:GREGORIAN
BEGIN:VEVENT
UID:38371a246bfb83ee83218e9c35cc467a
DTSTAMP:20260424T033427Z
SUMMARY:Camp Ruach Open House
DESCRIPTION:Jewish Life NJ\nOur Events \nhttps://jewishlifenj.org/our-event
 s/camp-ruach-open-house-504672\n\nJCC Camp Ruach Open House\nDiscover the 
 magic of Camp Ruach! Join us for an evening of fun featuring a hands-on cr
 aft activity and a photography scavenger hunt for the whole family. Meet o
 ur staff\, explore the beautiful campgrounds\, and see what makes summers 
 at Camp Ruach so special. Guided tours will be available throughout the ev
 ent.\n\nSpecial Offer: Register before December 31 and save $250* on your 
 camp tuition!\n\n*Restrictions apply
DTSTART;TZID=America/New_York:20251210T173000
DTEND;TZID=America/New_York:20251210T190000
END:VEVENT
END:VCALENDAR
