BEGIN:VCALENDAR
PRODID:-//eluceo/ical//2.0/EN
VERSION:2.0
CALSCALE:GREGORIAN
BEGIN:VEVENT
UID:abd04c2b5093f4b99ba1bb6dcafa5287
DTSTAMP:20260426T043140Z
SUMMARY:Business Networking Group Happy Hour
DESCRIPTION:Jewish Life NJ\nOur Events \nhttps://jewishlifenj.org/our-event
 s/business-networking-group-happy-hour2025-481918\n\nBusiness Networking
  Group \n\nHappy Hour\n\nJoin Local Professionals for Networking\,
  Drinks & Appetiers \n\nThursday\, January 30\, 2025 \n\n5-6:30pm\
 n\nWillie McBride's \n\n1270 Easton Tpke\, Branchburg\, NJ \n\nRegi
 stration \n\nCouvert in Advance $36 \n\nCouvert at the door $45 
 \n\nQuestions? Lauren 908.758.2003 or Ledelman@jfedwcnj.org \n\nEveryone
  is welcome \n\nHosted by BNG Co-Chairs Jacqueline Engelsman & 
  Kenneth M. Kaplan   
DTSTART;TZID=America/New_York:20250130T170000
DTEND;TZID=America/New_York:20250130T183000
END:VEVENT
END:VCALENDAR
