BEGIN:VCALENDAR
PRODID:-//eluceo/ical//2.0/EN
VERSION:2.0
CALSCALE:GREGORIAN
BEGIN:VEVENT
UID:12ae6903008e11ee9fb46c8802f7d21c
DTSTAMP:20260423T172549Z
SUMMARY:Bridgewater Spring Carnival and Touch-a-Truck
DESCRIPTION:Jewish Life NJ\nOur Events \nhttps://jewishlifenj.org/our-event
 s/bridgewater-spring-carnival-and-touch-a-truck-514287\n\nGet ready for a 
 day that checks every box: big trucks\, big rides\, and big fun.\n\nOur Ca
 rnival and Touch-A-Truck brings together the thrill of classic carnival at
 tractions with the hands-on excitement kids love. Climb into real trucks a
 nd specialty vehicles\, race through inflatables\, take a spin on the ride
 s\, and try your luck at games. Add in face painting\, crafts\, and intera
 ctive activities\, and you have a full afternoon of nonstop energy.\n\nFue
 l up at a lineup of food trucks and browse lo...
DTSTART;TZID=America/New_York:20260531T110000
DTEND;TZID=America/New_York:20260531T150000
END:VEVENT
END:VCALENDAR
