BEGIN:VCALENDAR
PRODID:-//eluceo/ical//2.0/EN
VERSION:2.0
CALSCALE:GREGORIAN
BEGIN:VEVENT
UID:a409b5c91ed164e17b23e0f4ca865213
DTSTAMP:20260425T035326Z
SUMMARY:Bridgewater Spring Carnival
DESCRIPTION:Jewish Life NJ\nOur Events \nhttps://jewishlifenj.org/our-event
 s/bridgewater-spring-carnival-487900\n\nBridgewater Spring Carnival Return
 s June 22 with Family Fun\n\nBridgewater\, NJ – The Shimon and Sara Bir
 nbaum Jewish Community Center (JCC)\, in partnership with Bridgewater Town
 ship and Bridgewater Commons\, is excited to announce the return of the B
 ridgewater Spring Carnival on Sunday\, June 22\, 2025\, from 11:00 AM to 3
 :00 PM at Bridgewater Commons (400 Commons Way\, Bridgewater\, NJ 08807).\
 n\nWe are proud to welcome back Robert Wood Johnson University Hospital S
 omerset as this year’s T...
DTSTART;TZID=America/New_York:20250622T110000
DTEND;TZID=America/New_York:20250622T130000
END:VEVENT
END:VCALENDAR
