BEGIN:VCALENDAR
PRODID:-//eluceo/ical//2.0/EN
VERSION:2.0
CALSCALE:GREGORIAN
BEGIN:VEVENT
UID:e1a82de7ffdcdb5feea3b1481e3c801d
DTSTAMP:20260424T125248Z
SUMMARY:Bridgewater Family Fun Day featuring Touch-a-Truck
DESCRIPTION:Jewish Life NJ\nOur Events \nhttps://jewishlifenj.org/our-event
 s/bridgewater-family-fun-day-featuring-touch-a-truck-500146\n\nFree admiss
 ion to the event including over 25 vehicles to climb on and explore\, ride
 s\, inflatables and games.\nTouch-a-Truck\, Rides\, Games\, Food Trucks\, 
 Vendor Booths\, Special Needs Resource Fair\, and More\nMeet Sir Henry\, T
 he Rutgers Scarlett Knight\nSponsorship Opportunities Available: Learn Mor
 e (Funds raised to provide scholarship for Children\, Adults and Familie
 s in need in our community.)\nArtisan and Vendor Registration Form\nFood T
 ruck Registration Form\n\n\nVisit the Bridge...
DTSTART;TZID=America/New_York:20250914T110000
DTEND;TZID=America/New_York:20250914T150000
END:VEVENT
END:VCALENDAR
