BEGIN:VCALENDAR
PRODID:-//eluceo/ical//2.0/EN
VERSION:2.0
CALSCALE:GREGORIAN
BEGIN:VEVENT
UID:d91dc6b22891f261ed02d18cee37bca2
DTSTAMP:20260424T140707Z
SUMMARY:Blast\, Paint\, Celebrate!
DESCRIPTION:Jewish Life NJ\nOur Events \nhttps://jewishlifenj.org/our-event
 s/blast-paint-celebrate-500537\n\nCome celebrate the Jewish New Year in a 
 way your kids will never forget! At this Rosh Hashanah celebration\, kids 
 in grades K–6 can:\n\n\nTake the Shofar Sound Challenge — try to bla
 st your own shofar or borrow one of ours and see if you can master the cal
 l.\nCreate your own Shofar.\nCreate Kindness Rocks with uplifting messa
 ges and colorful designs to spread positivity.\nEnjoy the classic New Year
 ’s treat of apples dipped in honey for a sweet start.\n\n\nThis intera
 ctive\, han...
DTSTART;TZID=America/New_York:20250921T140000
DTEND;TZID=America/New_York:20250921T153000
END:VEVENT
END:VCALENDAR
