BEGIN:VCALENDAR
PRODID:-//eluceo/ical//2.0/EN
VERSION:2.0
CALSCALE:GREGORIAN
BEGIN:VEVENT
UID:d5a3b503ee6052b57429f914d6c1ecbf
DTSTAMP:20260423T163805Z
SUMMARY:Beyond the Headlines:  Understanding Israeli Life  Through Pop Cult
 ure
DESCRIPTION:Jewish Life NJ\nOur Events \nhttps://jewishlifenj.org/our-event
 s/beyond-the-headlines-understanding-israeli-life--through-pop-culture-508
 741\n\nBeyond the Headlines:\n\n\n\nUnderstanding Israeli Life Through Pop
  Culture\n\n\n\n\n\nPop culture reflects and shapes the rhythms of everyda
 y life in Israel. In this interactive session\, we’ll explore Israeli so
 ciety through the lens of its music\, film\, and television. Together\, we
 ’ll watch clips\, listen to songs\, and examine visual trends that revea
 l the complexities\, humor\, and creativity of a vibrant culture.\n\n\n\n\
 n\nFor Students in 7-12th Grade 
DTSTART;TZID=America/New_York:20260304T183000
DTEND;TZID=America/New_York:20260304T203000
END:VEVENT
END:VCALENDAR
