BEGIN:VCALENDAR
PRODID:-//eluceo/ical//2.0/EN
VERSION:2.0
CALSCALE:GREGORIAN
BEGIN:VEVENT
UID:2c5dd663eefa85e561f8bed7ac79d1a0
DTSTAMP:20260424T051153Z
SUMMARY:BBYO Pizza Tasting
DESCRIPTION:Jewish Life NJ\nOur Events \nhttps://jewishlifenj.org/our-event
 s/bbyo-pizza-tasting-1762697636-504616\n\nCome join us in taste testing pi
 zza from pizza places around the area!
DTSTART;TZID=America/New_York:20251111T070000
DTEND;TZID=America/New_York:20251111T080000
END:VEVENT
END:VCALENDAR
