BEGIN:VCALENDAR
PRODID:-//eluceo/ical//2.0/EN
VERSION:2.0
CALSCALE:GREGORIAN
BEGIN:VEVENT
UID:49580e20f062a1d7e40cf36c2371ddc6
DTSTAMP:20260424T011525Z
SUMMARY:BBYO friendsgiving potluck and cupcake wars
DESCRIPTION:Jewish Life NJ\nOur Events \nhttps://jewishlifenj.org/our-event
 s/bbyo-friendsgiving-potluck-and-cupcake-wars-1763785745-505710\n\nCome br
 ing some food and join us in a friendsgiving potluck and decorating cookie
 s for cupcake wars!
DTSTART;TZID=America/New_York:20251123T180000
DTEND;TZID=America/New_York:20251123T191500
END:VEVENT
END:VCALENDAR
