BEGIN:VCALENDAR
PRODID:-//eluceo/ical//2.0/EN
VERSION:2.0
CALSCALE:GREGORIAN
BEGIN:VEVENT
UID:e88ee4cef7e460232ff0f38bfddbfa9b
DTSTAMP:20260421T174215Z
SUMMARY:AS One Community 65th Anniversary Gala - Federation
DESCRIPTION:Jewish Life NJ\nOur Events \nhttps://jewishlifenj.org/our-event
 s/as-one-community-65th-anniversary-gala-federation-492603\n\nSapphire Gal
 a\n\nCelebrate Federation's 65th Anniversary\n\n \n\nJune 4\, 2026\n\n6:3
 0pm\n\nFlemington\, NJ\n\n \n\nCouvert: $180 Per Person \n\n \n\nAn Eve
 ning Honoring\n\nAs One Community Champions\n\n Dr. Judith Hersh • Mich
 ael Saul • Andy Tupler\n\n \n\n Live Entertainment-Featuring\n\nTom Ke
 nnedy\, Mentalist\n\n \n\nCocktails & Gourmet Dinner\n\nKosher Dietary La
 ws Observed\n\n \n\nChaired by: Jill and Eric Lavitsky & Dee and Wally Yo
 safat\n\nCommittee: Betina Goldberg\,\n\nMike...
DTSTART;TZID=America/New_York:20260604T183000
DTEND;TZID=America/New_York:20260604T213000
END:VEVENT
END:VCALENDAR
