BEGIN:VCALENDAR
PRODID:-//eluceo/ical//2.0/EN
VERSION:2.0
CALSCALE:GREGORIAN
BEGIN:VEVENT
UID:154e5b5333db162c3129e48c45fc02a2
DTSTAMP:20260424T173643Z
SUMMARY:Anne Frank: Her Life and Surprising Legacy (Online)
DESCRIPTION:Jewish Life NJ\nOur Events \nhttps://jewishlifenj.org/our-event
 s/anne-frank-her-life-and-surprising-legacy-498254\n\nGillian Perry will 
 share the remarkable story of how Anne’s magical thread has woven itself
  around the world. From the hard-fought publication of Anne’s diary in 1
 947 (and how it so nearly didn’t happen)\, to the creation by Otto Frank
  of the Anne Frank House in Amsterdam\, and the effect of learning about A
 nne Frank on millions of people around the world\, some in desperate and d
 ifficult situations. It contextualizes Anne Frank educational projects aga
 inst the background of world history...
DTSTART;TZID=America/New_York:20250919T100000
DTEND;TZID=America/New_York:20250919T110000
END:VEVENT
END:VCALENDAR
