BEGIN:VCALENDAR
PRODID:-//eluceo/ical//2.0/EN
VERSION:2.0
CALSCALE:GREGORIAN
BEGIN:VEVENT
UID:1b577d3c4091a6370097e9aec00420bd
DTSTAMP:20260424T063850Z
SUMMARY:An Israel Briefing with Avi Melamed
DESCRIPTION:Jewish Life NJ\nOur Events \nhttps://jewishlifenj.org/our-event
 s/an-israel-briefing-with-avi-melamed-503209\n\nIntelligence • Insight 
 • Context\n\nAt a moment of major developments in Israel and the broader
  Middle East\, this is your opportunity to gain an insider’s perspective
 \, ask tough questions and engage in constructive conversation\n\nAvi Mela
 med is a Geopolitical Middle East Expert\, Intelligence Analyst\, Former I
 sraeli Intelligence Official and Senior Arab Affairs Advisor. He is the F
 ounder of Inside The Middle East: Intelligence Perspectives (ITME)\, a n
 on-partisan educational nonprofit...
DTSTART;TZID=America/New_York:20251105T190000
DTEND;TZID=America/New_York:20251105T210000
END:VEVENT
END:VCALENDAR
