BEGIN:VCALENDAR
PRODID:-//eluceo/ical//2.0/EN
VERSION:2.0
CALSCALE:GREGORIAN
BEGIN:VEVENT
UID:05f7cf95eb824304e812083d53ff57f7
DTSTAMP:20260424T114537Z
SUMMARY:An Evening to Commemorate October 7
DESCRIPTION:Jewish Life NJ\nOur Events \nhttps://jewishlifenj.org/our-event
 s/an-evening-to-commemorate-october-7-500151\n\nAn Evening to Commemorate 
 October 7 with Jessica Steinberg\, "The Times of Israel" Podcast Host\n\nM
 oderated by Community Member Wally Yosafat\n\nIn commemoration of the even
 ts of October 7\, join us for a powerful evening of reflection with Jessic
 a Steinberg\, Arts and Culture Editor at The Times of Israel.\n\nJessica w
 ill share her personal and professional journey as she shifted from coveri
 ng Israel’s cultural landscape to reporting on the harrowing realities o
 f war\, documenting the lives o...
DTSTART;TZID=America/New_York:20250929T190000
DTEND;TZID=America/New_York:20250929T201500
END:VEVENT
END:VCALENDAR
