BEGIN:VCALENDAR
PRODID:-//eluceo/ical//2.0/EN
VERSION:2.0
CALSCALE:GREGORIAN
BEGIN:VEVENT
UID:dcb9db8dd541a940d59044a2929d0562
DTSTAMP:20260424T011808Z
SUMMARY:American Jewish Committee New Jersey Annual Dinner
DESCRIPTION:Jewish Life NJ\nOur Events \nhttps://jewishlifenj.org/our-event
 s/american-jewish-committee-new-jersey-annual-dinner-1755700626-498670\n\n
 AJC New Jersey’s Annual Dinner Honoring The Pincus Family\nJoin us in re
 cognizing Claudio & Penny Pincus and Daniel Pincus & Becky Sweren whose st
 eadfast commitment\, philanthropic leadership\, and extraordinary generosi
 ty have helped shape and strengthen AJC’s mission for many years.\n\nWe 
 will also present AJC New Jersey’s Friend of Israel Award to Dalia Ziada
 \nDalia Ziada\, an award-winning Egyptian author\, will be the 2025 recipi
 ent of AJC New Jersey’s Friend of Israel Award. Since H...
DTSTART;TZID=America/New_York:20251118T183000
DTEND;TZID=America/New_York:20251118T203000
END:VEVENT
END:VCALENDAR
