BEGIN:VCALENDAR
PRODID:-//eluceo/ical//2.0/EN
VERSION:2.0
CALSCALE:GREGORIAN
BEGIN:VEVENT
UID:cddceeb018b842c4651d99d913599e63
DTSTAMP:20260425T142258Z
SUMMARY:A Night of Remembrance and Resilience: A Yom HaShoah Program
DESCRIPTION:Jewish Life NJ\nOur Events \nhttps://jewishlifenj.org/our-event
 s/a-night-of-remembrance-and-resilience-a-yom-hashoah-program-489787\n\nA 
 Night of Remembrance and Resilience: A Yom HaShoah Program\n\nJoin us for 
 a powerful and moving evening as we honor the memory of the Holocaust and 
 the strength of those who survived. Michelle Edgar\, Program Specialist fo
 r the Institute of Holocaust and Genocide Studies at Raritan Valley Commun
 ity College\, will share the remarkable story of her grandmother\, Edith I
 srael.\n\nEdith was just 20 years old\, living in Dillich\, Germany\, when
  Hitler rose to power—an event that altered the course ...
DTSTART;TZID=America/New_York:20250423T190000
DTEND;TZID=America/New_York:20250423T203000
END:VEVENT
END:VCALENDAR
