BEGIN:VCALENDAR
PRODID:-//eluceo/ical//2.0/EN
VERSION:2.0
CALSCALE:GREGORIAN
BEGIN:VEVENT
UID:0db1757e9745a0376051e22b76d916c2
DTSTAMP:20260425T142249Z
SUMMARY:The History of Medicine and Drugs in New Jersey with Dr. Gary Grove
 r
DESCRIPTION:Jewish Life NJ\nOur Events \nhttps://jewishlifenj.org/our-event
 s/The-History-of-Medicine-and-Drugs-485665\n\nThe History of Medicine and 
 Drugs in New Jersey with Dr. Gary Grover\n\nMonday\, April 7th \n\n7:00pm
  \n\n775 Talamini Road\, Bridgewater\, NJ \n\nSuggested Donation $18 \n
 \nDonations for this event will be matched by the Grover Foundation doubli
 ng the impact of your contribution! \n\n \n\nQuestions please contact La
 uren Edelman at 908-758-2003 or ledelman@jfedwcnj.org\n\nSponsored in par
 t by : Home Instead 
DTSTART;TZID=America/New_York:20250407T190000
DTEND;TZID=America/New_York:20250407T210000
END:VEVENT
END:VCALENDAR
