BEGIN:VCALENDAR
PRODID:-//eluceo/ical//2.0/EN
VERSION:2.0
CALSCALE:GREGORIAN
BEGIN:VEVENT
UID:0800cc3006ce2aa43999f855dc87d2ea
DTSTAMP:20260423T182053Z
SUMMARY:2026 BNG
DESCRIPTION:Jewish Life NJ\nOur Events \nhttps://jewishlifenj.org/our-event
 s/2026-bng-508723\n\nBusiness Networking Group \n\nHappy Hour\n\nJoin Loc
 al Professionals for Networking\, Drinks & Appetizers \n\nThursday\, Febr
 uary 19\, 2026 \n\n5:30pm \n\nThe Landing\n\n311 Amwell Road\, Suite 6\,
  Hillsborough\, NJ \n\n \n\nRegistration \n\nCouvert in advance $36 \n
 \nCouvert at the door $40\n\n \n\nEveryone is welcome \n\nHosted by BNG 
 Co-Chairs Jacqueline Engelsman & Kenneth M. Kaplan   
DTSTART;TZID=America/New_York:20260219T173000
DTEND;TZID=America/New_York:20260219T190000
END:VEVENT
END:VCALENDAR
