BEGIN:VCALENDAR
PRODID:-//eluceo/ical//2.0/EN
VERSION:2.0
CALSCALE:GREGORIAN
BEGIN:VEVENT
UID:5f165a58d8c1b18fc8bd2db84cb2cc4e
DTSTAMP:20260423T184721Z
SUMMARY:2025 JCC  Annual Meeting
DESCRIPTION:Jewish Life NJ\nOur Events \nhttps://jewishlifenj.org/our-event
 s/2025-jcc-annual-meeting-508392\n\nMore info Soon 
DTSTART;TZID=America/New_York:20260513T183000
DTEND;TZID=America/New_York:20260513T203000
END:VEVENT
END:VCALENDAR
