BEGIN:VCALENDAR
PRODID:-//eluceo/ical//2.0/EN
VERSION:2.0
CALSCALE:GREGORIAN
BEGIN:VEVENT
UID:58dc1367380d300123aa0aed49a63d74
DTSTAMP:20260424T084136Z
SUMMARY:17th ANNUAL RUMMAGE SALE
DESCRIPTION:Jewish Life NJ\nOur Events \nhttps://jewishlifenj.org/our-event
 s/17th-annual-rummage-sale-cks-502666\n\nFind Great Stuff! \n\nclothing\, 
 household items\, kitchen items\, yard items\, toys\, sports equipment\, c
 ollectibles\, small furniture\, usable electronics\, linens\, small rugs\,
  children’s books \n\nAdditional day Sunday\, October 26 from 9-12 with 
 bag sale in final hour.
DTSTART;TZID=America/New_York:20251024T080000
DTEND;TZID=America/New_York:20251024T160000
END:VEVENT
END:VCALENDAR
